BEGIN:VCALENDAR
VERSION:2.0
PRODID:-//Plone.org//NONSGML plone.app.event//EN
X-WR-TIMEZONE:Europe/Madrid
BEGIN:VEVENT
SUMMARY:10J Desarmar per viure
DTSTART;TZID=Europe/Madrid;VALUE=DATE-TIME:20250610T173000
DTEND;TZID=Europe/Madrid;VALUE=DATE-TIME:20250610T210000
DTSTAMP;VALUE=DATE-TIME:20260424T095631Z
UID:f3ecd607de844f1697861f1f3747b1be@localhost:6081
CONTACT:https://www.lafede.cat/10j-jornada-desarmar-per-viure/
CREATED;VALUE=DATE-TIME:20250529T112227Z
DESCRIPTION:Les organitzacions catalanes de Pau i Noviolència obren el de
 bat al voltant de la iniciativa europea ReArm Europe\, i demanen una pau r
 eal i sostenible. Lafede co-organitza unes jornades on s’escoltaran veus
  internacionals i es presentaran les propostes de la federació per fer po
 ssible una política de pau útil al país\, i que es posi al servei de la
  construcció de pau global.
LAST-MODIFIED;VALUE=DATE-TIME:20250529T221340Z
LOCATION:Sala Mirador CCCB
URL:https://edualter.org/ca/events/10j-desarmar-per-viure
END:VEVENT
BEGIN:VTIMEZONE
TZID:Europe/Madrid
X-LIC-LOCATION:Europe/Madrid
BEGIN:DAYLIGHT
DTSTART;VALUE=DATE-TIME:20250330T030000
TZNAME:CEST
TZOFFSETFROM:+0100
TZOFFSETTO:+0200
END:DAYLIGHT
END:VTIMEZONE
END:VCALENDAR
