BEGIN:VCALENDAR
VERSION:2.0
PRODID:-//Plone.org//NONSGML plone.app.event//EN
X-WR-TIMEZONE:Europe/Madrid
BEGIN:VEVENT
SUMMARY:19a Mostra de Cinema Àrab i Mediterrani de Catalunya
DTSTART;TZID=Europe/Madrid;VALUE=DATE-TIME:20251106T000000
DTEND;TZID=Europe/Madrid;VALUE=DATE-TIME:20251116T000000
DTSTAMP;VALUE=DATE-TIME:20260424T092012Z
UID:58354d3160434f3c98a5c58a6abca7df@localhost:6081
CONTACT:Sodepau\, https://mostracinearab.org/
CREATED;VALUE=DATE-TIME:20251021T155804Z
DESCRIPTION:Enguany\, la Mostra posa un focus a Palestina des de la seva n
 it inaugural\, i ho fa recuperant la seva filmografia clàssica i projecta
 nt el seu cinema contemporani i familiar que emergeix sota ocupació i doc
 umenta la lluita d’aquest poble assetjat.
LAST-MODIFIED;VALUE=DATE-TIME:20251021T155838Z
LOCATION:Filmoteca de Catalunya\, el Zumzeig\, la Lleialtat Santsenca\, el
  Santa Mònica\, la Biblioteca Sant Pau i la llibreria La Calders
URL:https://edualter.org/ca/events/19a-mostra-de-cinema-arab-i-mediterrani
 -de-catalunya
END:VEVENT
BEGIN:VTIMEZONE
TZID:Europe/Madrid
X-LIC-LOCATION:Europe/Madrid
BEGIN:STANDARD
DTSTART;VALUE=DATE-TIME:20251026T020000
TZNAME:CET
TZOFFSETFROM:+0200
TZOFFSETTO:+0100
END:STANDARD
END:VTIMEZONE
END:VCALENDAR
