BEGIN:VCALENDAR
VERSION:2.0
PRODID:-//Plone.org//NONSGML plone.app.event//EN
X-WR-TIMEZONE:Europe/Madrid
BEGIN:VEVENT
SUMMARY:46ª Escola d'Estiu del Maresme
DTSTART;VALUE=DATE:20250702
DTEND;VALUE=DATE:20250712
DTSTAMP;VALUE=DATE-TIME:20260424T151940Z
UID:df178eac533440338d432a250b71a04a@localhost:6081
CONTACT:Moviment Educatiu Maresme\, https://www.memcat.org/46a-escola-dest
 iu-del-maresme/
CREATED;VALUE=DATE-TIME:20250516T113754Z
DESCRIPTION:Hem arribat a la 46a edició de l’Escola d’Estiu del Movim
 ent Educatiu del Maresme\, i ho fem amb més ganes que mai d’aprendre\, 
 compartir\, gaudir i riure plegades. Continuem amb la voluntat de donar-vo
 s eines\, recursos i experiències útils per al vostre dia a dia.
LAST-MODIFIED;VALUE=DATE-TIME:20250516T113842Z
URL:https://edualter.org/ca/events/46a-escola-destiu-del-maresme
END:VEVENT
END:VCALENDAR
