BEGIN:VCALENDAR
VERSION:2.0
PRODID:-//Plone.org//NONSGML plone.app.event//EN
X-WR-TIMEZONE:Europe/Madrid
BEGIN:VEVENT
SUMMARY:5a Edició IMPACTE!: Festival de Cinema i Drets Humans de Cataluny
 a
DTSTART;VALUE=DATE:20250324
DTEND;VALUE=DATE:20250414
DTSTAMP;VALUE=DATE-TIME:20260424T093711Z
UID:2691a30aa1e042cc8802d8c98d0c3e44@localhost:6081
CONTACT:IMPACTE!\, info@impactefilmfest.cat\, https://impactefilmfest.cat/
 2025-festival/
CREATED;VALUE=DATE-TIME:20250312T084645Z
DESCRIPTION:Una iniciativa sociocultural independent\, que vol estimular e
 l debat i la consciència social de la ciutadania sobre aspectes relaciona
 ts amb els Drets humans i la Justícia global\, a través d’una proposta
  de pel·lícules de qualitat.
LAST-MODIFIED;VALUE=DATE-TIME:20250312T085031Z
LOCATION:Barcelona
URL:https://edualter.org/ca/events/5a-edicio-impacte-festival-de-cinema-i-
 drets-humans-de-catalunya
END:VEVENT
END:VCALENDAR
