BEGIN:VCALENDAR
VERSION:2.0
PRODID:-//Plone.org//NONSGML plone.app.event//EN
X-WR-TIMEZONE:Europe/Madrid
BEGIN:VEVENT
SUMMARY:Antiracisme a l’educació
DTSTART;TZID=Europe/Madrid;VALUE=DATE-TIME:20241120T180000
DTEND;TZID=Europe/Madrid;VALUE=DATE-TIME:20241120T200000
DTSTAMP;VALUE=DATE-TIME:20260424T093310Z
UID:2db5f5050bf34de5a516617497f679c6@localhost:6081
CONTACT:Centre de Recursos en Drets Humans\, inscripcions.crdh@bcn.cat
CREATED;VALUE=DATE-TIME:20241108T082103Z
DESCRIPTION:Presentació de guia pedagògica. El pròxim 20 de novembre es
  presenta una guia per a la incorporació de la perspectiva antiracista al
 s materials educatius.\n\nEl racisme i la xenofòbia ha estat\, per sisè 
 any consecutiu\, el primer motiu de discriminació a Barcelona. Els centre
 s educatius no en són una excepció\, i és per això que s’ha elaborat
  una guia per a incorporar la perspectiva antiracista als materials i recu
 rsos pedagògics.
LAST-MODIFIED;VALUE=DATE-TIME:20241108T082202Z
LOCATION:Centre Cívic Can Deu\, Plaça de la Concòrdia\, 13
URL:https://edualter.org/ca/events/antiracisme-a-l2019educacio
END:VEVENT
BEGIN:VTIMEZONE
TZID:Europe/Madrid
X-LIC-LOCATION:Europe/Madrid
BEGIN:STANDARD
DTSTART;VALUE=DATE-TIME:20241027T020000
TZNAME:CET
TZOFFSETFROM:+0200
TZOFFSETTO:+0100
END:STANDARD
END:VTIMEZONE
END:VCALENDAR
