BEGIN:VCALENDAR
VERSION:2.0
PRODID:-//Plone.org//NONSGML plone.app.event//EN
X-WR-TIMEZONE:Europe/Madrid
BEGIN:VEVENT
SUMMARY:'Armes nuclears #MaiMés!' al Guinardó
DTSTART;VALUE=DATE:20230912
DTEND;VALUE=DATE:20231004
DTSTAMP;VALUE=DATE-TIME:20260424T093350Z
UID:2984f50787cc4cb69f01f62f9f0f1d5f@localhost:6081
CREATED;VALUE=DATE-TIME:20230925T110244Z
DESCRIPTION:Del 12 de setembre al 3 d’octubre del 2023\, l’exposició 
 de FundiPau ‘Armes Nuclears #MaiMés!\, es pot visitar a la Biblioteca G
 uinardó-Mercè Rodoreda de Barcelona.\n\nEn un context de tensions intern
 acionals en què s’ha fet explícita l’amenaça d’usar armes nuclear
 s (actualment n'hi ha més de 12.500 en mans de nou països)\, aquesta mos
 tra fa un repàs dels terribles efectes que ha causat aquest armament fins
  avui\, de la situació actual i de la tasca de la societat civil organitz
 ada per prohibir-lo.\n\n‘Armes Nuclears #MaiMés!’ es pot visitar en e
 l següent horari:\n\nDilluns\, dimarts\, dimecres i divendres de 09.30 h 
 a 13.30 h i de 15.30 h a 20.30 h\nDijous de 09.30 h a 20.30 h\nDissabte de
  10.00 h a 14.00 h i de 16.00 h a 20.00 h
LAST-MODIFIED;VALUE=DATE-TIME:20230925T111153Z
LOCATION:Biblioteca Guinardó-Mercè Rodoreda\, c/ Camèlies\, 76-80\, 080
 24 Barcelona
URL:https://edualter.org/ca/events/armes-nuclears-maimes-al-guinardo
END:VEVENT
END:VCALENDAR
