BEGIN:VCALENDAR
VERSION:2.0
PRODID:-//Plone.org//NONSGML plone.app.event//EN
X-WR-TIMEZONE:Europe/Madrid
BEGIN:VEVENT
SUMMARY:Cafè d'homes. Masculinitats i envelliment: reptes i oportunitats.
DTSTART;TZID=Europe/Madrid;VALUE=DATE-TIME:20250321T183000
DTEND;TZID=Europe/Madrid;VALUE=DATE-TIME:20250321T203000
DTSTAMP;VALUE=DATE-TIME:20260424T093606Z
UID:76fddcbf02664f668634589159ed8668@localhost:6081
CONTACT:Plural\, centre de masculinitats\, 933491610\, plural@bcn.cat\, ht
 tps://inscripcions.barcelona.cat/cafehomes_plural/?fbclid=PAZXh0bgNhZW0CMT
 EAAaaW2rBY3jthc3l7frSPX_AJ_Yd-63bHstJ-OcivqCJZHqlZlVSOMiJAE5Q_aem_YIVCaZlB
 bYenrNktz4ulJw
CREATED;VALUE=DATE-TIME:20250317T141934Z
DESCRIPTION:Com es viuen les masculinitats en l'etapa de l'envelliment? Qu
 ins reptes i oportunitats ens planteja aquesta etapa per a una vida digna 
 i plena?
LAST-MODIFIED;VALUE=DATE-TIME:20250317T142035Z
LOCATION:Avinguda del Marquès de l’Argentera\, 22\, 08003 (Ciutat Vella
 )\, Barcelona
URL:https://edualter.org/ca/events/cafe-dhomes-masculinitats-i-envelliment
 -reptes-i-oportunitats
END:VEVENT
BEGIN:VTIMEZONE
TZID:Europe/Madrid
X-LIC-LOCATION:Europe/Madrid
BEGIN:STANDARD
DTSTART;VALUE=DATE-TIME:20241027T020000
TZNAME:CET
TZOFFSETFROM:+0200
TZOFFSETTO:+0100
END:STANDARD
END:VTIMEZONE
END:VCALENDAR
