BEGIN:VCALENDAR
VERSION:2.0
PRODID:-//Plone.org//NONSGML plone.app.event//EN
X-WR-TIMEZONE:Europe/Madrid
BEGIN:VEVENT
SUMMARY:Cicle d'activitats Primavera Verda
DTSTART;VALUE=DATE:20250516
DTEND;VALUE=DATE:20250522
DTSTAMP;VALUE=DATE-TIME:20260424T093227Z
UID:6ded9def7699429596119ff87279c120@localhost:6081
CONTACT:Servei Civil Internacional\, https://www.scicat.org/noticies/arrib
 a-la-primavera-verda-amb-activitats-sobre-intelligencia-artificial-i-crisi
 -climatica/
CREATED;VALUE=DATE-TIME:20250512T092454Z
DESCRIPTION:Des de Justícia Climàtica\, el grup d’activisme ecologista
  de l’SCI Catalunya\, organitzem un any més la Primavera Verda amb la i
 ntenció de fomentar una visió crítica sobre com funciona la nostra soci
 etat a escala global i local\, i plantejar reptes i alternatives per viure
  en un món sostenible i més just amb el nostre entorn natural i social.
LAST-MODIFIED;VALUE=DATE-TIME:20250512T092526Z
LOCATION:La Vaqueria\, Carrer del carme 95\, baixos 2a
URL:https://edualter.org/ca/events/cicle-dactivitats-primavera-verda
END:VEVENT
END:VCALENDAR
