BEGIN:VCALENDAR
VERSION:2.0
PRODID:-//Plone.org//NONSGML plone.app.event//EN
X-WR-TIMEZONE:Europe/Madrid
BEGIN:VEVENT
SUMMARY:Comunitats Educatives en Transició
DTSTART;TZID=Europe/Madrid;VALUE=DATE-TIME:20251002T170000
DTEND;TZID=Europe/Madrid;VALUE=DATE-TIME:20251030T200000
DTSTAMP;VALUE=DATE-TIME:20260424T091920Z
UID:fc3abea7cf994bf5b74c06b8ee48b99c@localhost:6081
CONTACT:Ateneu Cooperatiu Vallès Occidental\, hola@leixida.org\, https://
 www.ateneucooperatiuvalles.org/comunitats-educatives-en-transicio/
CREATED;VALUE=DATE-TIME:20250926T103214Z
DESCRIPTION:Un curs adreçat a la comunitat educativa (entesa en un sentit
  ampli) que interpel·la tots aquells agents clau que poden jugar un paper
  actiu en l’educació d’infants i joves: docents (primària i secundà
 ria)\, associacions (de famílies d’alumnes\, de veïns\, etc.)\, entita
 ts de lleure\, i altres persones que vulguin transformar els nostres barri
 s i ciutats. \n\nUn Curs per formar-nos i inspirar-nos\, però sobretot pe
 r debatre i construir col·lectivament nous imaginaris\, reptes i proposte
 s per una transició ecològica justa on la Comunitat educativa hi jugui u
 n paper actiu i central!
LAST-MODIFIED;VALUE=DATE-TIME:20250926T103316Z
LOCATION:Sabadell
URL:https://edualter.org/ca/events/comunitats-educatives-en-transicio
END:VEVENT
BEGIN:VTIMEZONE
TZID:Europe/Madrid
X-LIC-LOCATION:Europe/Madrid
BEGIN:DAYLIGHT
DTSTART;VALUE=DATE-TIME:20250330T030000
TZNAME:CEST
TZOFFSETFROM:+0100
TZOFFSETTO:+0200
END:DAYLIGHT
BEGIN:STANDARD
DTSTART;VALUE=DATE-TIME:20251026T020000
TZNAME:CET
TZOFFSETFROM:+0200
TZOFFSETTO:+0100
END:STANDARD
END:VTIMEZONE
END:VCALENDAR
