BEGIN:VCALENDAR
VERSION:2.0
PRODID:-//Plone.org//NONSGML plone.app.event//EN
X-WR-TIMEZONE:Europe/Madrid
BEGIN:VEVENT
SUMMARY:Concurs de poesia transoceànica  HOMENATGE A CLAUDIA LARS
DTSTART;TZID=Europe/Madrid;VALUE=DATE-TIME:20241222T000000
DTEND;TZID=Europe/Madrid;VALUE=DATE-TIME:20250220T235500
DTSTAMP;VALUE=DATE-TIME:20260424T093714Z
UID:c1bd4a7e029b4679bb24254298f2c2e7@localhost:6081
CONTACT:poesia@literaturasalvadorenya.cat\, https://www.literaturasalvador
 enya.cat/concurs-poesia/
CREATED;VALUE=DATE-TIME:20241223T094836Z
DESCRIPTION:Presentem la quarta edició del Concurs Transoceànic de Poesi
 a homenatge a Claudia Lars\, la poeta salvadorenca l’obra de la qual ha 
 emocionat generacions senceres. Amb aquesta nova edició que commemora el 
 125è aniversari del seu naixement\, volem continuar celebrant la poesia c
 om a llenguatge universal que transcendeix fronteres geogràfiques i cultu
 rals\, per això\, convidem a poetes de totes les latituds i nacionalitats
  a participar\, compartint les seves creacions més íntimes i belles\, en
  un homenatge viu a la memòria de Claudia Lars.
LAST-MODIFIED;VALUE=DATE-TIME:20241223T094858Z
URL:https://edualter.org/ca/events/concurs-de-poesia-transoceanica-homenat
 ge-a-claudia-lars
END:VEVENT
BEGIN:VTIMEZONE
TZID:Europe/Madrid
X-LIC-LOCATION:Europe/Madrid
BEGIN:STANDARD
DTSTART;VALUE=DATE-TIME:20241027T020000
TZNAME:CET
TZOFFSETFROM:+0200
TZOFFSETTO:+0100
END:STANDARD
END:VTIMEZONE
END:VCALENDAR
