BEGIN:VCALENDAR
VERSION:2.0
PRODID:-//Plone.org//NONSGML plone.app.event//EN
X-WR-TIMEZONE:Europe/Madrid
BEGIN:VEVENT
SUMMARY:CONFLICTE ISRAEL - PALESTINA: LA CRISI HUMANITÀRIA A GAZA AVUI
DTSTART;TZID=Europe/Madrid;VALUE=DATE-TIME:20231120T183000
DTEND;TZID=Europe/Madrid;VALUE=DATE-TIME:20231120T210000
DTSTAMP;VALUE=DATE-TIME:20260424T204249Z
UID:75b1f9dcdbb348f5b75bb62ee96f2d8a@localhost:6081
CONTACT:Fundació Congrés Català de Salut Mental\, info@fccsm.net
CREATED;VALUE=DATE-TIME:20231120T162714Z
DESCRIPTION:Hi Intervindran: Mahmoud Daher\, expert en Salut Pública. Exc
 ap de l’Oficina de l’OMS a Gaza\; Àngels Vives\, psiquiatra i psicoan
 alista. Presidenta de la Fundació Congrés Català de Salut Mental\; Raú
 l Gallego\, periodista. Ha cobert la zona d’Israel i Palestina des del 2
 001\, la segona intifada\, la guerra del Líban 2006 i ha fet reportatges 
 documentals curts els últims anys per Al Jazeera English i actualment per
  TV3\; Salah Jamal\, membre de la comunitat palestina a Catalunya. Metge\,
  historiador i escriptor\; Laurent Cohen\, copresident de l’Associació 
 Catalana de Jueus i Palestins junts. i el moderador:  Víctor Martí\, dir
 ector de la Fundació Congrés Català de Salut Mental
LAST-MODIFIED;VALUE=DATE-TIME:20231120T162924Z
LOCATION:Sala d’Actes del Col·legi de Terapeutes Ocupacionals de Catalu
 nya C/ de Casp\, 130. Barcelona
URL:https://edualter.org/ca/events/conflicte-israel-palestina-la-crisi-hum
 anitaria-a-gaza-avui
END:VEVENT
BEGIN:VTIMEZONE
TZID:Europe/Madrid
X-LIC-LOCATION:Europe/Madrid
BEGIN:STANDARD
DTSTART;VALUE=DATE-TIME:20231029T020000
TZNAME:CET
TZOFFSETFROM:+0200
TZOFFSETTO:+0100
END:STANDARD
END:VTIMEZONE
END:VCALENDAR
