BEGIN:VCALENDAR
VERSION:2.0
PRODID:-//Plone.org//NONSGML plone.app.event//EN
X-WR-TIMEZONE:Europe/Madrid
BEGIN:VEVENT
SUMMARY:Curs acreditat per a mestres i professorat "COMunitats: estratègi
 es socioeducatives per unes relacions sostenibles a l'aula\, a l'escola i 
 al món".
DTSTART;VALUE=DATE:20231031
DTEND;VALUE=DATE:20231220
DTSTAMP;VALUE=DATE-TIME:20260424T092029Z
UID:495a271963b24afbbe69483e0004a79b@localhost:6081
CONTACT:Fundació Akwaba\, 93 440 76 96\, FORMACIO@FUNDACIOAKWABA.CAT\, ht
 tps://aplicacions.ensenyament.gencat.cat/pls/soloas/pk_for_mod_ins.p_for_d
 etall_activitat?p_codi=1040631104&p_curs=2023-2024&p_es_inscr=S
CREATED;VALUE=DATE-TIME:20231013T073206Z
DESCRIPTION:Es posa sobre la taula els diferents reptes globals que podem 
 trobar en un context local\, més concretament relacionats amb el vector 6
  i la temàtica de l'educació per a la justícia global. A on es durà a 
 terme una construcció col·lectiva d'aprenentatge basat en temàtiques co
 m l'ètica de les cures i els feminismes\, la interculturalitat crítica\,
  la sostenibilitat i la comunicació transformadora.
LAST-MODIFIED;VALUE=DATE-TIME:20231013T083745Z
LOCATION:Torre Barrina (metro Collbanc)
URL:https://edualter.org/ca/events/curs-acreditat-per-a-mestres-i-professo
 rat-comunitats-estrategies-socioeducatives-per-unes-relacions-sostenibles-
 a-laula-a-lescola-i-al-mon
END:VEVENT
END:VCALENDAR
