BEGIN:VCALENDAR
VERSION:2.0
PRODID:-//Plone.org//NONSGML plone.app.event//EN
X-WR-TIMEZONE:Europe/Madrid
BEGIN:VEVENT
SUMMARY:Curs de lideratge conscient. Eines per a un lideratge facilitador 
 i transformador
DTSTART;TZID=Europe/Madrid;VALUE=DATE-TIME:20240124T093000
DTEND;TZID=Europe/Madrid;VALUE=DATE-TIME:20240403T143000
DTSTAMP;VALUE=DATE-TIME:20260424T120032Z
UID:27f511dae7c9460f9a2809b80dde01ad@localhost:6081
CONTACT:Fil a l'agulla\, escolafil@filalagulla.org\, https://odoo.filalagu
 lla.org/event/curs-de-lideratge-conscient-70/register#scrollTop=0
CREATED;VALUE=DATE-TIME:20231222T163443Z
DESCRIPTION:Aquest curs pretén unir persones interessades a liderar\, ja 
 sigui en el món de l’empresa\, ens els equips directius dels centres ed
 ucatius\, de l’economia social\, del tercer sector\, de l’administraci
 ó\, de la política o dels moviments socials.\nPer tant\, està adreçat 
 a assessores\, coachs\, consultores organitzacionals\, emprenedores i equi
 ps directius que treballen al món educatiu. Persones amb voluntat de posa
 r el seu potencial al servei del canvi de forma sostenible\, persones que 
 vulguin prendre el poder per fer un ús completament diferent del que s’
 ha fet fins ara.
LAST-MODIFIED;VALUE=DATE-TIME:20231222T163504Z
LOCATION:Presencial (local de Fil a l'Agulla) i online
URL:https://edualter.org/ca/events/curs-de-lideratge-conscient-eines-per-a
 -un-lideratge-facilitador-i-transformador
END:VEVENT
BEGIN:VTIMEZONE
TZID:Europe/Madrid
X-LIC-LOCATION:Europe/Madrid
BEGIN:STANDARD
DTSTART;VALUE=DATE-TIME:20231029T020000
TZNAME:CET
TZOFFSETFROM:+0200
TZOFFSETTO:+0100
END:STANDARD
BEGIN:DAYLIGHT
DTSTART;VALUE=DATE-TIME:20240331T030000
TZNAME:CEST
TZOFFSETFROM:+0100
TZOFFSETTO:+0200
END:DAYLIGHT
END:VTIMEZONE
END:VCALENDAR
