BEGIN:VCALENDAR
VERSION:2.0
PRODID:-//Plone.org//NONSGML plone.app.event//EN
X-WR-TIMEZONE:Europe/Madrid
BEGIN:VEVENT
SUMMARY:Curs per professorat 'Eduquem per a la transició ecosocial'
DTSTART;TZID=Europe/Madrid;VALUE=DATE-TIME:20240206T160000
DTEND;TZID=Europe/Madrid;VALUE=DATE-TIME:20240312T200000
DTSTAMP;VALUE=DATE-TIME:20260424T193455Z
UID:c6fffd25ab024793a0fb54154a02787f@localhost:6081
CONTACT:Ateneu Cooperatiu de Catalunya Central\, https://coopcatcentral.ca
 t/agenda-ateneu/curs-per-professorat-eduquem-per-a-la-transicio-ecosocial/
CREATED;VALUE=DATE-TIME:20231222T172842Z
DESCRIPTION:Ecologisme\, salut mental\, interculturalitat\, antiracisme\, 
 economia social. Com intervenen aquestes temàtiques en l’educació i co
 m tot això es pot portar a l’aula? Ja tenim programa\, conformat per 5 
 sessions\, pel curs de professorat.\n\nGuarda’t les dates i\, si tens qu
 alsevol pregunta\, contacta’ns!\n\nBen aviat difondrem l’enllaç per l
 es inscripcions
LAST-MODIFIED;VALUE=DATE-TIME:20231222T172905Z
URL:https://edualter.org/ca/events/curs-per-professorat-eduquem-per-a-la-t
 ransicio-ecosocial
END:VEVENT
BEGIN:VTIMEZONE
TZID:Europe/Madrid
X-LIC-LOCATION:Europe/Madrid
BEGIN:STANDARD
DTSTART;VALUE=DATE-TIME:20231029T020000
TZNAME:CET
TZOFFSETFROM:+0200
TZOFFSETTO:+0100
END:STANDARD
END:VTIMEZONE
END:VCALENDAR
