BEGIN:VCALENDAR
VERSION:2.0
PRODID:-//Plone.org//NONSGML plone.app.event//EN
X-WR-TIMEZONE:Europe/Madrid
BEGIN:VEVENT
SUMMARY:Dones investigadores en les xarxes de creació i intercanvi de con
 eixement de la Mediterrània per la justícia climàtica
DTSTART;VALUE=DATE:20251203
DTEND;VALUE=DATE:20251204
DTSTAMP;VALUE=DATE-TIME:20260424T064142Z
UID:5918f3cda2e844cc88f196948e21e1fe@localhost:6081
CONTACT:Fundació Solidaritat UB\, https://www.solidaritat.ub.edu/dones-in
 vestigadores-mediterrania-justicia-climatica/
CREATED;VALUE=DATE-TIME:20251126T095355Z
DESCRIPTION:Acadèmiques i professionals del Marroc\, Tunísia i Catalunya
  visibilitzaran el paper de les dones en la ciència i la lluita contra el
  canvi climàtic\, el 3 de desembre\, a l’Edifici Històric de la univer
 sitat.
LAST-MODIFIED;VALUE=DATE-TIME:20251126T095407Z
LOCATION:Aula Ramón y Cajal de l’Edifici Històric de la Universitat de
  Barcelona
URL:https://edualter.org/ca/events/dones-investigadores-en-les-xarxes-de-c
 reacio-i-intercanvi-de-coneixement-de-la-mediterrania-per-la-justicia-clim
 atica
END:VEVENT
END:VCALENDAR
