BEGIN:VCALENDAR
VERSION:2.0
PRODID:-//Plone.org//NONSGML plone.app.event//EN
X-WR-TIMEZONE:Europe/Madrid
BEGIN:VEVENT
SUMMARY:Ecofeminismes La sostenibilitat de la vida a l’Educació Ambient
 al
DTSTART;TZID=Europe/Madrid;VALUE=DATE-TIME:20241130T100000
DTEND;TZID=Europe/Madrid;VALUE=DATE-TIME:20241130T190000
DTSTAMP;VALUE=DATE-TIME:20260424T093615Z
UID:82e213f2a87a44a181c1c7292f2273ea@localhost:6081
CONTACT:Societat Catalana d’Educació Ambiental\, scea@scea.cat\, https:
 //scea.cat/que-fem/formacions/ecofeminismes-la-sostenibilitat-de-la-vida-a
 -leducacio-ambiental/
CREATED;VALUE=DATE-TIME:20241121T130509Z
DESCRIPTION:En una societat on les violències envers les dones no paren d
 e créixer i on les dades ens indiquen una tendència preocupant entre el 
 jovent\, que creu que el feminisme “ha anat massa lluny” (segons dades
  del CEO)\, pensem que aquest curs és més necessari que mai. L’educaci
 ó ambiental pot ocupar un paper fonamental en entendre com l’ecofeminis
 me és l’opció de vida més justa per tothom.
LAST-MODIFIED;VALUE=DATE-TIME:20241121T130615Z
LOCATION:Aula Ambiental Bosc Turull
URL:https://edualter.org/ca/events/ecofeminismes-la-sostenibilitat-de-la-v
 ida-a-l2019educacio-ambiental
END:VEVENT
BEGIN:VTIMEZONE
TZID:Europe/Madrid
X-LIC-LOCATION:Europe/Madrid
BEGIN:STANDARD
DTSTART;VALUE=DATE-TIME:20241027T020000
TZNAME:CET
TZOFFSETFROM:+0200
TZOFFSETTO:+0100
END:STANDARD
END:VTIMEZONE
END:VCALENDAR
