BEGIN:VCALENDAR
VERSION:2.0
PRODID:-//Plone.org//NONSGML plone.app.event//EN
X-WR-TIMEZONE:Europe/Madrid
BEGIN:VEVENT
SUMMARY:Educació Global contra la Xenofòbia: Intercanvi de bones pràcti
 ques locals i globals en la formació inicial del professorat
DTSTART;TZID=Europe/Madrid;VALUE=DATE-TIME:20251022T000000
DTEND;TZID=Europe/Madrid;VALUE=DATE-TIME:20251023T000000
DTSTAMP;VALUE=DATE-TIME:20260424T095445Z
UID:84a5f93a370245da8abf707d6892a9e1@localhost:6081
CONTACT:ACNUR/UNHCR - Comitè Català\, https://forms.creacongresos.com/AC
 NUR-2025/ca/
CREATED;VALUE=DATE-TIME:20250916T104639Z
DESCRIPTION:El programa busca promocionar espais d’intercanvi d’experi
 ències i de diàleg col·laboratiu entre les persones i institucions part
 icipants\, mitjançant la celebració de taules rodones\, ponències magis
 trals i tallers temàtics.
LAST-MODIFIED;VALUE=DATE-TIME:20250916T104724Z
LOCATION:Edifici Josep Carner de la Universitat de Barcelona (Carrer d’A
 ribau\, 2)
URL:https://edualter.org/ca/events/educacio-global-contra-la-xenofobia-int
 ercanvi-de-bones-practiques-locals-i-globals-en-la-formacio-inicial-del-pr
 ofessorat
END:VEVENT
BEGIN:VTIMEZONE
TZID:Europe/Madrid
X-LIC-LOCATION:Europe/Madrid
BEGIN:DAYLIGHT
DTSTART;VALUE=DATE-TIME:20250330T030000
TZNAME:CEST
TZOFFSETFROM:+0100
TZOFFSETTO:+0200
END:DAYLIGHT
END:VTIMEZONE
END:VCALENDAR
