BEGIN:VCALENDAR
VERSION:2.0
PRODID:-//Plone.org//NONSGML plone.app.event//EN
X-WR-TIMEZONE:Europe/Madrid
BEGIN:VEVENT
SUMMARY:En Fugida. Refugiats
DTSTART;VALUE=DATE:20241115
DTEND;VALUE=DATE:20250331
DTSTAMP;VALUE=DATE-TIME:20260424T093311Z
UID:f8f261010a994eef9fa31d8fbb913a50@localhost:6081
CONTACT:https://www.mhcat.cat/exposicions/exposicions_en_curs/en_fugida_re
 fugiats
CREATED;VALUE=DATE-TIME:20241112T090606Z
DESCRIPTION:Acte d'obertura de l'exposició: EN FUGIDA. REFUGIATS que tind
 rà lloc dijous 14 de novembre\, a les 19h\, al Museu d'Història de Catal
 unya
LAST-MODIFIED;VALUE=DATE-TIME:20241112T090759Z
LOCATION:Museu d'Història de Catalunya - Plaça de Pau Vila 3\, 08039\, B
 arcelona
URL:https://edualter.org/ca/events/en-fugida-refugiats
END:VEVENT
END:VCALENDAR
