BEGIN:VCALENDAR
VERSION:2.0
PRODID:-//Plone.org//NONSGML plone.app.event//EN
X-WR-TIMEZONE:Europe/Madrid
BEGIN:VEVENT
SUMMARY:ÉSFesta! Trobada anual d’Enginyeria Sense Fronteres Arriba la 
 ÉSFesta!
DTSTART;TZID=Europe/Madrid;VALUE=DATE-TIME:20231202T110000
DTEND;TZID=Europe/Madrid;VALUE=DATE-TIME:20231202T200000
DTSTAMP;VALUE=DATE-TIME:20260424T193606Z
UID:cd03230574f54bd88bb1cf8d61b0c391@localhost:6081
CONTACT:Associació Internacional D’Enginyeria Sense Fronteres\, contact
 a@esf-cat.org\, https://intercom.lafede.cat/activitats/esfesta-trobada-anu
 al-denginyeria-sense-fronteres-arriba-la-esfesta
CREATED;VALUE=DATE-TIME:20231121T183928Z
DESCRIPTION:Arriba la ÉSFesta!\n\nEl pròxim 2 de desembre de 2023 us esp
 erem a Can Masdeu per a gaudir de la trobada anual d’Enginyeria Sense Fr
 onteres!
LAST-MODIFIED;VALUE=DATE-TIME:20231121T183945Z
LOCATION:Can Masdeu\, Camí Sant Llàtzer\, 12\, 08035 Barcelona
URL:https://edualter.org/ca/events/esfesta-trobada-anual-d2019enginyeria-s
 ense-fronteres-arriba-la-esfesta
END:VEVENT
BEGIN:VTIMEZONE
TZID:Europe/Madrid
X-LIC-LOCATION:Europe/Madrid
BEGIN:STANDARD
DTSTART;VALUE=DATE-TIME:20231029T020000
TZNAME:CET
TZOFFSETFROM:+0200
TZOFFSETTO:+0100
END:STANDARD
END:VTIMEZONE
END:VCALENDAR
