BEGIN:VCALENDAR
VERSION:2.0
PRODID:-//Plone.org//NONSGML plone.app.event//EN
X-WR-TIMEZONE:Europe/Madrid
BEGIN:VEVENT
SUMMARY:Espectacle Be Water a Barberà del Vallès
DTSTART;TZID=Europe/Madrid;VALUE=DATE-TIME:20240114T120000
DTEND;TZID=Europe/Madrid;VALUE=DATE-TIME:20240114T120000
DTSTAMP;VALUE=DATE-TIME:20260424T192302Z
UID:19df086f54b44b949ff3e39b9a023691@localhost:6081
CONTACT:Associació Internacional D’Enginyeria Sense Fronteres\, contact
 a@esf-cat.org\, https://intercom.lafede.cat/activitats/espectacle-be-water
 -a-barbera-del-valles
CREATED;VALUE=DATE-TIME:20231221T184834Z
DESCRIPTION:L'espectacle de teatre Be Water és una paròdia televisiva qu
 e posa en relleu la problemàtica de la mercantilització de l'aigua. Assi
 stirem al concurs anual organizat per l'Aliança Constitucional de l'Aigua
  Catalana (A.C.A.C) i viatjarem a un futur distòpic en què l'aigua és l
 a moneda de canvi. No us el perdeu!
LAST-MODIFIED;VALUE=DATE-TIME:20231221T184929Z
LOCATION:Teatre Municipal Cooperativa\, Ptge. de la Cooperativa\, 5\, Barb
 erà del Vallès
URL:https://edualter.org/ca/events/espectacle-be-water-a-barbera-del-valle
 s
END:VEVENT
BEGIN:VTIMEZONE
TZID:Europe/Madrid
X-LIC-LOCATION:Europe/Madrid
BEGIN:STANDARD
DTSTART;VALUE=DATE-TIME:20231029T020000
TZNAME:CET
TZOFFSETFROM:+0200
TZOFFSETTO:+0100
END:STANDARD
END:VTIMEZONE
END:VCALENDAR
