BEGIN:VCALENDAR
VERSION:2.0
PRODID:-//Plone.org//NONSGML plone.app.event//EN
X-WR-TIMEZONE:Europe/Madrid
BEGIN:VEVENT
SUMMARY:Exposició “Som territori. Defensa ecofeminista dels territoris 
 que habitem”⁠
DTSTART;TZID=Europe/Madrid;VALUE=DATE-TIME:20231030T193500
DTEND;TZID=Europe/Madrid;VALUE=DATE-TIME:20231130T193500
DTSTAMP;VALUE=DATE-TIME:20260424T093736Z
UID:5570b7c8fab14890be907834e7246f2b@localhost:6081
CONTACT:SUDS - Associació Internacional de Solidaritat I Cooperació\, 93
 1172542\, ester@suds.cat\, https://intercom.lafede.cat/activitats/exposici
 o-som-territori-defensa-ecofeminista-dels-territoris-que-habitem-0
CREATED;VALUE=DATE-TIME:20231121T183544Z
DESCRIPTION:L'exposició es pot visitar del 30 d’octubre⁠ al 30 de nov
 embre\, als Jardins de Can Sisteré\, a Santa Coloma de Gramenet\n\nQuè t
 enen en comú les lluites de pobles indígenes de Guatemala\, d'Hondures i
  a Santa Coloma de Gramenet quan situem la vida al centre i no el capital?
 \n\nParticipants en tallers de fotografia participativa a aquest 3 indrets
  ens ho expliquen a través de les seves reflexions i les fotografies que 
 han fet. \n\nVine a visitar-la i conèixer les històries de resistència 
 ecofeminista que expliquen les imatges.\n\n#SomTerritori
LAST-MODIFIED;VALUE=DATE-TIME:20231130T100515Z
LOCATION:Can Sisteré\, a Santa Coloma de Gramenet
URL:https://edualter.org/ca/events/exposicio-201csom-territori-defensa-eco
 feminista-dels-territoris-que-habitem201d2060
END:VEVENT
BEGIN:VTIMEZONE
TZID:Europe/Madrid
X-LIC-LOCATION:Europe/Madrid
BEGIN:STANDARD
DTSTART;VALUE=DATE-TIME:20231029T020000
TZNAME:CET
TZOFFSETFROM:+0200
TZOFFSETTO:+0100
END:STANDARD
END:VTIMEZONE
END:VCALENDAR
