BEGIN:VCALENDAR
VERSION:2.0
PRODID:-//Plone.org//NONSGML plone.app.event//EN
X-WR-TIMEZONE:Europe/Madrid
BEGIN:VEVENT
SUMMARY:Fòrum d'Educació Ambiental 2025
DTSTART;VALUE=DATE:20250328
DTEND;VALUE=DATE:20250331
DTSTAMP;VALUE=DATE-TIME:20260424T093309Z
UID:b74c5db2f7304a18b11d997f78841a3d@localhost:6081
CONTACT:SCEA\, 93 213 39 45\, scea@scea.cat\, https://scea.cat/forum-deduc
 acio-ambiental-2025/
CREATED;VALUE=DATE-TIME:20250319T111345Z
DESCRIPTION:Enguany ens trobem a Lleida\, fugint de la centralitat de Barc
 elona i altres ciutats densament poblades que no representen totes les rea
 litats. Què farem?\n\n- Reflexionar sobre com ens interpel·la el context
  d’emergència climàtica i ecològica i què necessitem per actuar i cu
 idar-nos.\n- Conèixer entitats o professionals de diferents disciplines a
 mb qui potencialment establir aliances.\n- Conèixer projectes inspiradors
  des del treball comunitari.\n- Imaginar col·lectivament futurs (im)possi
 bles.
LAST-MODIFIED;VALUE=DATE-TIME:20250319T112035Z
LOCATION:Lleida
URL:https://edualter.org/ca/events/forum-deducacio-ambiental-2025
END:VEVENT
END:VCALENDAR
