BEGIN:VCALENDAR
VERSION:2.0
PRODID:-//Plone.org//NONSGML plone.app.event//EN
X-WR-TIMEZONE:Europe/Madrid
BEGIN:VEVENT
SUMMARY:Gestió del trastorn greu de conducta als centres educatius
DTSTART;TZID=Europe/Madrid;VALUE=DATE-TIME:20240402T151000
DTEND;TZID=Europe/Madrid;VALUE=DATE-TIME:20240423T151000
DTSTAMP;VALUE=DATE-TIME:20260424T192400Z
UID:06434edcddd9423080f8f33ee2a635f5@localhost:6081
CONTACT:Som Docents\, somdocents@somdocents.com\, https://www.somdocents.c
 om/cursos/gestio-del-trastorn-greu-de-conducta-als-centres-educatius
CREATED;VALUE=DATE-TIME:20231223T140836Z
DESCRIPTION:En aquest curs s’analitzen les causes del trastorn greu de l
 a conducta en els infants i es faciliten eines per prevenir\, identificar 
 i gestionar aquestes conductes dins de l’aula i dels centres educatius.
LAST-MODIFIED;VALUE=DATE-TIME:20231223T140900Z
LOCATION:Online
URL:https://edualter.org/ca/events/gestio-del-trastorn-greu-de-conducta-al
 s-centres-educatius
END:VEVENT
BEGIN:VTIMEZONE
TZID:Europe/Madrid
X-LIC-LOCATION:Europe/Madrid
BEGIN:DAYLIGHT
DTSTART;VALUE=DATE-TIME:20240331T030000
TZNAME:CEST
TZOFFSETFROM:+0100
TZOFFSETTO:+0200
END:DAYLIGHT
END:VTIMEZONE
END:VCALENDAR
