BEGIN:VCALENDAR
VERSION:2.0
PRODID:-//Plone.org//NONSGML plone.app.event//EN
X-WR-TIMEZONE:Europe/Madrid
BEGIN:VEVENT
SUMMARY:Gestió turística dels espais de memòria: les rutes dels maquis 
 al Pirineu
DTSTART;TZID=Europe/Madrid;VALUE=DATE-TIME:20231218T093000
DTEND;TZID=Europe/Madrid;VALUE=DATE-TIME:20231218T133000
DTSTAMP;VALUE=DATE-TIME:20260424T193647Z
UID:c72433fdfc544b5596c076aba1628100@localhost:6081
CONTACT:Amical Antics Guerrillers de Catalunya\, 620 484 591\, info@maquis
 .cat
CREATED;VALUE=DATE-TIME:20231128T164545Z
LAST-MODIFIED;VALUE=DATE-TIME:20231128T164609Z
LOCATION:Centre Cívic Francesc Llobet
URL:https://edualter.org/ca/events/gestio-turistica-dels-espais-de-memoria
 -les-rutes-dels-maquis-al-pirineu
END:VEVENT
BEGIN:VTIMEZONE
TZID:Europe/Madrid
X-LIC-LOCATION:Europe/Madrid
BEGIN:STANDARD
DTSTART;VALUE=DATE-TIME:20231029T020000
TZNAME:CET
TZOFFSETFROM:+0200
TZOFFSETTO:+0100
END:STANDARD
END:VTIMEZONE
END:VCALENDAR
