BEGIN:VCALENDAR
VERSION:2.0
PRODID:-//Plone.org//NONSGML plone.app.event//EN
X-WR-TIMEZONE:Europe/Madrid
BEGIN:VEVENT
SUMMARY:Globalització i salut mental: Dol migratori
DTSTART;TZID=Europe/Madrid;VALUE=DATE-TIME:20240113T110000
DTEND;TZID=Europe/Madrid;VALUE=DATE-TIME:20240113T140000
DTSTAMP;VALUE=DATE-TIME:20260424T191623Z
UID:6029f9d77c4e4c1eb56d5217601c4665@localhost:6081
CONTACT:Comunalitat Manresa i FLORS SIRERA (Casa per la solidaritat i la p
 au)
CREATED;VALUE=DATE-TIME:20231222T164748Z
DESCRIPTION:Necessitem donar veu a les nostres experiències\, compartir a
 mb altres que han passat el mateix i entendre els símptomes emocionals co
 m a part del camí de trobar-nos millor.
LAST-MODIFIED;VALUE=DATE-TIME:20231222T164804Z
LOCATION:Casa Flors Sirera (Manresa)
URL:https://edualter.org/ca/events/globalitzacio-i-salut-mental-dol-migrat
 ori
END:VEVENT
BEGIN:VTIMEZONE
TZID:Europe/Madrid
X-LIC-LOCATION:Europe/Madrid
BEGIN:STANDARD
DTSTART;VALUE=DATE-TIME:20231029T020000
TZNAME:CET
TZOFFSETFROM:+0200
TZOFFSETTO:+0100
END:STANDARD
END:VTIMEZONE
END:VCALENDAR
