BEGIN:VCALENDAR
VERSION:2.0
PRODID:-//Plone.org//NONSGML plone.app.event//EN
X-WR-TIMEZONE:Europe/Madrid
BEGIN:VEVENT
SUMMARY:Hackató Educativa. #CHALLENGING MAS(K)
DTSTART;TZID=Europe/Madrid;VALUE=DATE-TIME:20250408T090000
DTEND;TZID=Europe/Madrid;VALUE=DATE-TIME:20250408T143000
DTSTAMP;VALUE=DATE-TIME:20260424T091920Z
UID:b167472730a0488ca23419325fed7df9@localhost:6081
CONTACT:olga.carbonell@ub.edu
CREATED;VALUE=DATE-TIME:20250321T082232Z
DESCRIPTION:Cibermasculinitats i violències de gènere. Què podem fer co
 m a docents?
LAST-MODIFIED;VALUE=DATE-TIME:20250321T082322Z
LOCATION:Sala Ernest Mascort\, Edifici Llevant. Campus Mundet. Universitat
  de Barcelona.
URL:https://edualter.org/ca/events/hackato-educativa-challenging-mas-k
END:VEVENT
BEGIN:VTIMEZONE
TZID:Europe/Madrid
X-LIC-LOCATION:Europe/Madrid
BEGIN:DAYLIGHT
DTSTART;VALUE=DATE-TIME:20250330T030000
TZNAME:CEST
TZOFFSETFROM:+0100
TZOFFSETTO:+0200
END:DAYLIGHT
END:VTIMEZONE
END:VCALENDAR
