BEGIN:VCALENDAR
VERSION:2.0
PRODID:-//Plone.org//NONSGML plone.app.event//EN
X-WR-TIMEZONE:Europe/Madrid
BEGIN:VEVENT
SUMMARY:I Congrés de Professorat STEM de Secundària: Compartim Experièn
 cies\, Multipliquem Aprenentatges
DTSTART;VALUE=DATE:20250702
DTEND;VALUE=DATE:20250704
DTSTAMP;VALUE=DATE-TIME:20260424T092029Z
UID:2047d561d45a475db45b87a0a4c89efb@localhost:6081
CONTACT:Universitat Politècnica de Catalunya\, https://esdeveniments.upc.
 edu/127813/detail/i-congres-de-professorat-stem-de-secundaria.html
CREATED;VALUE=DATE-TIME:20250428T073717Z
DESCRIPTION:L’ICE de la UPC organitza aquest congrés com a punt de trob
 ada per a docents d’ESO\, batxillerat i cicles formatius de ciències\, 
 tecnologia i matemàtiques. L’objectiu és intercanviar experiències in
 novadores\, generar debat i crear sinergies per millorar l’ensenyament S
 TEM.\nPresentació del congrés per la directora de l’ICE.
LAST-MODIFIED;VALUE=DATE-TIME:20250428T073846Z
LOCATION:Campus del Baix Llobregat\, Castelldefels\, UPC
URL:https://edualter.org/ca/events/i-congres-de-professorat-stem-de-secund
 aria-compartim-experiencies-multipliquem-aprenentatges
END:VEVENT
END:VCALENDAR
