BEGIN:VCALENDAR
VERSION:2.0
PRODID:-//Plone.org//NONSGML plone.app.event//EN
X-WR-TIMEZONE:Europe/Madrid
BEGIN:VEVENT
SUMMARY:Implementant l’Educació Integral en Sexualitat: estratègies pe
 r a l’èxit i l’impacte sostenible
DTSTART;TZID=Europe/Madrid;VALUE=DATE-TIME:20250402T131500
DTEND;TZID=Europe/Madrid;VALUE=DATE-TIME:20250402T144500
DTSTAMP;VALUE=DATE-TIME:20260424T092011Z
UID:2528fdd40e524a30a54a423f930e0635@localhost:6081
CONTACT:Catesco\, 934 58 87 00\, centre@catesco.org\, https://catesco.org/
 portfolio-items/posem-en-valor-leducacio-integral-en-sexualitat-en-ocasio-
 de-leuropean-regional-forum-on-sustainable-development-2025-de-seguiment-d
 e-lagenda-2030/?portfolioCats=23
CREATED;VALUE=DATE-TIME:20250325T074742Z
DESCRIPTION:Aquest esdeveniment paral·lel està especialment dirigit a or
 ganitzacions de la societat civil\,  professionals i responsables polític
 s interessats en avançar en l’EIS i promoure el seu paper fonamental en
  la salut\, la igualtat de gènere i la construcció de societats més inc
 lusives i equitatives.
LAST-MODIFIED;VALUE=DATE-TIME:20250325T074829Z
LOCATION:online
URL:https://edualter.org/ca/events/implementant-l2019educacio-integral-en-
 sexualitat-estrategies-per-a-l2019exit-i-l2019impacte-sostenible-1
END:VEVENT
BEGIN:VTIMEZONE
TZID:Europe/Madrid
X-LIC-LOCATION:Europe/Madrid
BEGIN:DAYLIGHT
DTSTART;VALUE=DATE-TIME:20250330T030000
TZNAME:CEST
TZOFFSETFROM:+0100
TZOFFSETTO:+0200
END:DAYLIGHT
END:VTIMEZONE
END:VCALENDAR
