BEGIN:VCALENDAR
VERSION:2.0
PRODID:-//Plone.org//NONSGML plone.app.event//EN
X-WR-TIMEZONE:Europe/Madrid
BEGIN:VEVENT
SUMMARY:Jornada "Comunicació en un món en conflicte: narratives i resist
 ències"
DTSTART;TZID=Europe/Madrid;VALUE=DATE-TIME:20250424T090000
DTEND;TZID=Europe/Madrid;VALUE=DATE-TIME:20250424T180000
DTSTAMP;VALUE=DATE-TIME:20260424T093523Z
UID:456adb8ed99743d68714680f6f7b214f@localhost:6081
CONTACT:https://www.uab.cat/web/cooperacio-i-epjg/jornada-comunicacio-en-u
 n-mon-en-conflicte-narratives-i-resistencies-1345948667012.html
CREATED;VALUE=DATE-TIME:20250325T100646Z
DESCRIPTION:La Facultat de Ciències de la Comunicació de la Universitat 
 Autònoma de Barcelona (UAB) acollirà la jornada "Comunicació en un món
  en conflicte: narratives i resistències"\, un espai de reflexió i apren
 entatge per a futurs professionals i experts de la comunicació que vulgui
 n entendre i afrontar els reptes del periodisme i la comunicació en un co
 ntext global marcat pels conflictes i la vulneració dels drets humans.
LAST-MODIFIED;VALUE=DATE-TIME:20250325T100742Z
LOCATION:Aula Magna\, Facultat Ciències de la comunicació UAB
URL:https://edualter.org/ca/events/jornada-comunicacio-en-un-mon-en-confli
 cte-narratives-i-resistencies
END:VEVENT
BEGIN:VTIMEZONE
TZID:Europe/Madrid
X-LIC-LOCATION:Europe/Madrid
BEGIN:DAYLIGHT
DTSTART;VALUE=DATE-TIME:20250330T030000
TZNAME:CEST
TZOFFSETFROM:+0100
TZOFFSETTO:+0200
END:DAYLIGHT
END:VTIMEZONE
END:VCALENDAR
