BEGIN:VCALENDAR
VERSION:2.0
PRODID:-//Plone.org//NONSGML plone.app.event//EN
X-WR-TIMEZONE:Europe/Madrid
BEGIN:VEVENT
SUMMARY:Justícia Climàtica\, Drets Humans i Migracions
DTSTART;TZID=Europe/Madrid;VALUE=DATE-TIME:20231129T093000
DTEND;TZID=Europe/Madrid;VALUE=DATE-TIME:20231129T141500
DTSTAMP;VALUE=DATE-TIME:20260424T120427Z
UID:da38ba2fe21a4168a6f2d2688b5c9a02@localhost:6081
CONTACT:Fundació Acsar\, 93 304 30 23\, projectes@fundacioacsar.org\, htt
 ps://intercom.lafede.cat/activitats/justicia-climatica-drets-humans-i-migr
 acions
CREATED;VALUE=DATE-TIME:20231121T183043Z
DESCRIPTION:L’emergència climàtica té un gran impacte sobre incomptab
 les factors que interactuen al planeta terra. Al planeta hi ha cada vegada
  més espais inhabitables a conseqüència dels canvis provocats per la co
 ntaminació i la sobreexplotació de la Terra. En aquesta jornada es pret
 én crear espais de debat i reflexió sobre la justícia climàtica\, les 
 migracions\, els ODS de l’Agenda 2030 i els Drets Humans.
LAST-MODIFIED;VALUE=DATE-TIME:20231121T183106Z
LOCATION:Sala d’Actes de l’Edifici Oficial d’Agents Comercials de Ba
 rcelona. Carrer Casp\, 130\, Barcelona.
URL:https://edualter.org/ca/events/justicia-climatica-drets-humans-i-migra
 cions
END:VEVENT
BEGIN:VTIMEZONE
TZID:Europe/Madrid
X-LIC-LOCATION:Europe/Madrid
BEGIN:STANDARD
DTSTART;VALUE=DATE-TIME:20231029T020000
TZNAME:CET
TZOFFSETFROM:+0200
TZOFFSETTO:+0100
END:STANDARD
END:VTIMEZONE
END:VCALENDAR
