BEGIN:VCALENDAR
VERSION:2.0
PRODID:-//Plone.org//NONSGML plone.app.event//EN
X-WR-TIMEZONE:Europe/Madrid
BEGIN:VEVENT
SUMMARY:La viralitat del mal
DTSTART;TZID=Europe/Madrid;VALUE=DATE-TIME:20250530T193000
DTEND;TZID=Europe/Madrid;VALUE=DATE-TIME:20250530T203000
DTSTAMP;VALUE=DATE-TIME:20260424T121838Z
UID:90aa0f5e1147446ea869aa4629916ca1@localhost:6081
CONTACT:Col·lectiu Proyecto Una\, https://albareda.inscripcionscc.com/Mir
 amModular/buscador/buscador.jsp?g=1&c=13&a=2024
CREATED;VALUE=DATE-TIME:20250529T084134Z
DESCRIPTION:Què queda de l'internet on informar-se\, tenir debats i conè
 ixer gent interessant? Per què creix l'odi a les xarxes? Hem de marxar de
  Twitter? Qui s'amaga rere els algoritmes? Existeix una alternativa?
LAST-MODIFIED;VALUE=DATE-TIME:20250529T084529Z
LOCATION:Centre Cívic Albareda
URL:https://edualter.org/ca/events/la-viralitat-del-mal
END:VEVENT
BEGIN:VTIMEZONE
TZID:Europe/Madrid
X-LIC-LOCATION:Europe/Madrid
BEGIN:DAYLIGHT
DTSTART;VALUE=DATE-TIME:20250330T030000
TZNAME:CEST
TZOFFSETFROM:+0100
TZOFFSETTO:+0200
END:DAYLIGHT
END:VTIMEZONE
END:VCALENDAR
