BEGIN:VCALENDAR
VERSION:2.0
PRODID:-//Plone.org//NONSGML plone.app.event//EN
X-WR-TIMEZONE:Europe/Madrid
BEGIN:VEVENT
SUMMARY:L'Artivisme per la Pau a Palestina
DTSTART;TZID=Europe/Madrid;VALUE=DATE-TIME:20240131T180000
DTEND;TZID=Europe/Madrid;VALUE=DATE-TIME:20240131T200000
DTSTAMP;VALUE=DATE-TIME:20260424T192400Z
UID:882b051efc344e6f96aad37a3e3f34b7@localhost:6081
CONTACT:UNRWA Catalunya\, 689 145 184\, catalunya@unrwa.es\, https://www.t
 ickettailor.com/events/unrwa/1100701
CREATED;VALUE=DATE-TIME:20240118T175042Z
DESCRIPTION:A la conferència presencial i en línia "L'artivisme per la P
 au a Palestina"\, moderada per la Laura Grau\, comunicadora i creadora de 
 continguts digitals\, conversarem amb dues artistes d'origen palestí Juma
 na Emil Abboud i Samira Badran\, i amb l'artivista catalana Chantal Vizcai
 no\, per a conèixer la realitat de la població refugiada de Palestina a 
 través de l'art.
LAST-MODIFIED;VALUE=DATE-TIME:20240118T175145Z
LOCATION:Nau Bostik (Sala Roman Polankik) Carrer Ferran Turné\, 1-11\, Ba
 rcelona
URL:https://edualter.org/ca/events/lartivisme-per-la-pau-a-palestina
END:VEVENT
BEGIN:VTIMEZONE
TZID:Europe/Madrid
X-LIC-LOCATION:Europe/Madrid
BEGIN:STANDARD
DTSTART;VALUE=DATE-TIME:20231029T020000
TZNAME:CET
TZOFFSETFROM:+0200
TZOFFSETTO:+0100
END:STANDARD
END:VTIMEZONE
END:VCALENDAR
