BEGIN:VCALENDAR
VERSION:2.0
PRODID:-//Plone.org//NONSGML plone.app.event//EN
X-WR-TIMEZONE:Europe/Madrid
BEGIN:VEVENT
SUMMARY:"LOVE IS IN THE AID" 30 anys d'Arquitectura Sense Fronteres
DTSTART;TZID=Europe/Madrid;VALUE=DATE-TIME:20240118T100000
DTEND;TZID=Europe/Madrid;VALUE=DATE-TIME:20240218T150000
DTSTAMP;VALUE=DATE-TIME:20260424T193607Z
UID:f98af403d60a45678e1248d081b34185@localhost:6081
CONTACT:Arquitectura Sense Fronteres\, 931 762 726\, asfcatcomunicacio@asf
 es.org\, https://catalunya.asfes.org/love-is-in-the-aid-30-anys-darquitect
 ura-sense-fronteres/
CREATED;VALUE=DATE-TIME:20231221T191251Z
DESCRIPTION:Exposició fotogràfica que il·lustra\, a través de 45 imatg
 es de gran format\, el treball d' Arquitectura Sin Fronteras - España (AS
 F-ES) a l’Àfrica\, l’Amèrica Llatina i Espanya -projectes internacio
 nals\, locals i d’educació pel desenvolupament- durant els 30 anys de r
 ecorregut de l'entitat.
LAST-MODIFIED;VALUE=DATE-TIME:20240118T180259Z
LOCATION:Col·legi d'Arquitectes de Catalunya (COAC)
URL:https://edualter.org/ca/events/love-is-in-the-aid-30-anys-darquitectur
 a-sense-fronteres
END:VEVENT
BEGIN:VTIMEZONE
TZID:Europe/Madrid
X-LIC-LOCATION:Europe/Madrid
BEGIN:STANDARD
DTSTART;VALUE=DATE-TIME:20231029T020000
TZNAME:CET
TZOFFSETFROM:+0200
TZOFFSETTO:+0100
END:STANDARD
END:VTIMEZONE
END:VCALENDAR
