BEGIN:VCALENDAR
VERSION:2.0
PRODID:-//Plone.org//NONSGML plone.app.event//EN
X-WR-TIMEZONE:Europe/Madrid
BEGIN:VEVENT
SUMMARY:Palestina en femení: què hi pinten les dones?
DTSTART;TZID=Europe/Madrid;VALUE=DATE-TIME:20231128T183000
DTEND;TZID=Europe/Madrid;VALUE=DATE-TIME:20231128T210000
DTSTAMP;VALUE=DATE-TIME:20260424T121850Z
UID:cf1604987ca24df5921973dcaafc58d1@localhost:6081
CONTACT:UNRWA Catalunya\, 689145184\, allucia@unrwa.es\, https://intercom.
 lafede.cat/activitats/palestina-en-femeni-que-hi-pinten-les-dones
CREATED;VALUE=DATE-TIME:20231123T172628Z
DESCRIPTION:Aproximació a la realitat de la població refugiada de Palest
 ina amb perspectiva de gènere a través de les publicacions d'estudiants 
 superiors d'arts gràfiques\n\nPresentarem les publicacions creades per UN
 RWA Catalunya i alumnat d’estudis superiors en arts gràfiques per aprox
 imar-nos a la realitat de la població refugiada de Palestina amb perspect
 iva de gènere i justícia ambiental. Les comentarem amb Salam\, membre de
  la Comunitat Palestina de Catalunya\, i Clara Barbal\, periodista i envia
 da especial a Israel i Palestina.
LAST-MODIFIED;VALUE=DATE-TIME:20231123T172650Z
LOCATION:UPF Campus Poblenou (sala de conferències edifici Tànger). Roc 
 Boronat\, 138
URL:https://edualter.org/ca/events/palestina-en-femeni-que-hi-pinten-les-d
 ones
END:VEVENT
BEGIN:VTIMEZONE
TZID:Europe/Madrid
X-LIC-LOCATION:Europe/Madrid
BEGIN:STANDARD
DTSTART;VALUE=DATE-TIME:20231029T020000
TZNAME:CET
TZOFFSETFROM:+0200
TZOFFSETTO:+0100
END:STANDARD
END:VTIMEZONE
END:VCALENDAR
