BEGIN:VCALENDAR
VERSION:2.0
PRODID:-//Plone.org//NONSGML plone.app.event//EN
X-WR-TIMEZONE:Europe/Madrid
BEGIN:VEVENT
SUMMARY:Premis Cecilia Castaño 2025
DTSTART;TZID=Europe/Madrid;VALUE=DATE-TIME:20250925T173000
DTEND;TZID=Europe/Madrid;VALUE=DATE-TIME:20251123T235500
DTSTAMP;VALUE=DATE-TIME:20260424T093356Z
UID:89f832f980aa417eaddcb744e8f6a5c1@localhost:6081
CONTACT:Grup de recerca Gènere i TIC (GENTIC)\, gentic@uoc.edu\, https://
 www.uoc.edu/portal/ca/agenda/2025/agenda_364.html
CREATED;VALUE=DATE-TIME:20251001T153515Z
DESCRIPTION:El grup d’investigació Gènere i TIC (GenTIC) de la Univers
 itat Oberta de Catalunya convoca una nova edició dels Premis Cecilia Cast
 año amb l’objectiu de fomentar la igualtat de gènere en l’àmbit de 
 les tecnologies de la informació i la comunicació (TIC) i en el més amp
 li de la ciència i la tecnologia (STEM\, de les sigles en anglès Science
 \, Technology\, Engineering\, and Mathematics).
LAST-MODIFIED;VALUE=DATE-TIME:20251112T153804Z
LOCATION:Universitat Oberta de Catalunya
URL:https://edualter.org/ca/events/premis-cecilia-castano-2025
END:VEVENT
BEGIN:VTIMEZONE
TZID:Europe/Madrid
X-LIC-LOCATION:Europe/Madrid
BEGIN:DAYLIGHT
DTSTART;VALUE=DATE-TIME:20250330T030000
TZNAME:CEST
TZOFFSETFROM:+0100
TZOFFSETTO:+0200
END:DAYLIGHT
BEGIN:STANDARD
DTSTART;VALUE=DATE-TIME:20251026T020000
TZNAME:CET
TZOFFSETFROM:+0200
TZOFFSETTO:+0100
END:STANDARD
END:VTIMEZONE
END:VCALENDAR
