BEGIN:VCALENDAR
VERSION:2.0
PRODID:-//Plone.org//NONSGML plone.app.event//EN
X-WR-TIMEZONE:Europe/Madrid
BEGIN:VEVENT
SUMMARY:Prevenció i sensibilització sobre ciberviolències masclistes 20
 25
DTSTART;VALUE=DATE:20250922
DTEND;VALUE=DATE:20251025
DTSTAMP;VALUE=DATE-TIME:20260424T093608Z
UID:816a8860729445c1b68ddc966df6521f@localhost:6081
CONTACT:cursos@escolaabolicionistainternacional.com\, https://la-sur.com/w
 p-admin/admin-ajax.php?action=tnptr&nltr=Mjk4Ozg5NDA7aHR0cHM6Ly9nZW92aW9sZ
 W5jaWFzZXh1YWwuY29tL2N1cnMtZW4tbGluaWEtc3VidmVuY2lvbmF0LXByZXZlbmNpby1pLXN
 lbnNpYmlsaXR6YWNpby1zb2JyZS1jaWJlcnZpb2xlbmNpZXMtbWFzY2xpc3Rlcy0yMDI1Lzs7Y
 jNiZjAxNTA1MmQ4ZjFmNWM2NDBhYTFjYmVhMTBhODM%3D
CREATED;VALUE=DATE-TIME:20250909T184317Z
DESCRIPTION:Conèixer les diferents formes de ciberviolències\, amb èmfa
 si en les seves manifestacions actuals com el grooming\, la sextorsió\, e
 l consum de contingut sexual digital\, la banalització de la violència d
 e gènere i els discursos misògins presents a la mansfera.
LAST-MODIFIED;VALUE=DATE-TIME:20250909T184440Z
LOCATION:En línia
URL:https://edualter.org/ca/events/prevencio-i-sensibilitzacio-sobre-ciber
 violencies-masclistes-2025
END:VEVENT
END:VCALENDAR
