BEGIN:VCALENDAR
VERSION:2.0
PRODID:-//Plone.org//NONSGML plone.app.event//EN
X-WR-TIMEZONE:Europe/Madrid
BEGIN:VEVENT
SUMMARY:Proyección del documental "Can Degrowth Save The World?"
DTSTART;TZID=Europe/Madrid;VALUE=DATE-TIME:20241122T190000
DTEND;TZID=Europe/Madrid;VALUE=DATE-TIME:20241122T210000
DTSTAMP;VALUE=DATE-TIME:20260424T151908Z
UID:9a840544634d4e2995c485c076ec4b96@localhost:6081
CONTACT:Research & Degrowth\, https://docs.google.com/forms/d/e/1FAIpQLScy
 IFuFBDQw0otrqYHTZL2suBfL-xIHjbHgiLijqxM77fbXaQ/viewform
CREATED;VALUE=DATE-TIME:20241121T105532Z
DESCRIPTION:Proyección de documental de la BBC. Con discusión con el pro
 ductor Álvaro Álvarez Ricciardelli y pica-pica con bebida y tapas.
LAST-MODIFIED;VALUE=DATE-TIME:20241121T105554Z
LOCATION:Bloc4\, Can Batlló\, Barcelona
URL:https://edualter.org/ca/events/proyeccion-del-documental-can-degrowth-
 save-the-world
END:VEVENT
BEGIN:VTIMEZONE
TZID:Europe/Madrid
X-LIC-LOCATION:Europe/Madrid
BEGIN:STANDARD
DTSTART;VALUE=DATE-TIME:20241027T020000
TZNAME:CET
TZOFFSETFROM:+0200
TZOFFSETTO:+0100
END:STANDARD
END:VTIMEZONE
END:VCALENDAR
