BEGIN:VCALENDAR
VERSION:2.0
PRODID:-//Plone.org//NONSGML plone.app.event//EN
X-WR-TIMEZONE:Europe/Madrid
BEGIN:VEVENT
SUMMARY:Sortir de l'antifeminisme a les aules
DTSTART;TZID=Europe/Madrid;VALUE=DATE-TIME:20240202T160000
DTEND;TZID=Europe/Madrid;VALUE=DATE-TIME:20240203T183000
DTSTAMP;VALUE=DATE-TIME:20260424T192302Z
UID:602ed85bd4e44156bdd97cbb843468b4@localhost:6081
CONTACT:Fil a l'agulla\, info@filalagulla.org\, https://odoo.filalagulla.o
 rg/event/sortir-de-l-antifeminisme-a-les-aules-buscant-altres-camins-a-la-
 polaritzacio-de-sexes-105/register
CREATED;VALUE=DATE-TIME:20231223T122856Z
DESCRIPTION:Una formació per a explorar maneres de sortir de la polaritza
 ció i les postures “anti-feministes” al món educatiu\n\nActivitat re
 coneguda pel Departament d'Educació de la Generalitat de Catalunya.
LAST-MODIFIED;VALUE=DATE-TIME:20231223T122916Z
LOCATION:Local de Fil a l’agulla\, Carrer de Sants 10\,.  Espai amb acce
 ssibilitat.
URL:https://edualter.org/ca/events/sortir-de-lantifeminisme-a-les-aules
END:VEVENT
BEGIN:VTIMEZONE
TZID:Europe/Madrid
X-LIC-LOCATION:Europe/Madrid
BEGIN:STANDARD
DTSTART;VALUE=DATE-TIME:20231029T020000
TZNAME:CET
TZOFFSETFROM:+0200
TZOFFSETTO:+0100
END:STANDARD
END:VTIMEZONE
END:VCALENDAR
