BEGIN:VCALENDAR
VERSION:2.0
PRODID:-//Plone.org//NONSGML plone.app.event//EN
X-WR-TIMEZONE:Europe/Madrid
BEGIN:VEVENT
SUMMARY:Sostenibilidad aplicada al sistema productivo. Una guía para la n
 ueva asignatura de FP
DTSTART;TZID=Europe/Madrid;VALUE=DATE-TIME:20251126T163000
DTEND;TZID=Europe/Madrid;VALUE=DATE-TIME:20251126T183000
DTSTAMP;VALUE=DATE-TIME:20260424T093742Z
UID:33a8fc0c94af4d1d9b9c6a6e97f62354@localhost:6081
CONTACT:FUHEM y Ecologistas en Acción\, https://www.fuhem.es/2025/11/18/w
 ebinar-sostenibilidad-aplicada-al-sistema-productivo-una-guia-para-la-nuev
 a-asignatura-de-fp/
CREATED;VALUE=DATE-TIME:20251119T095941Z
DESCRIPTION:El próximo 26 de noviembre celebramos una sesión imprescindi
 ble para docentes de Formación Profesional  coordinada por Charo Morán\,
  técnica de Educación Ecosocial en FUHEM\, bajo el título: “Sostenibi
 lidad aplicada al sistema productivo. Una guía para la nueva asignatura d
 e FP”\, donde se profundizará en esta nueva materia del currículo de F
 ormación Profesional (FP)\, diseñada para dotar de conocimientos y habil
 idades esenciales en áreas clave como la economía verde\, la sostenibili
 dad y el impacto ambiental.
LAST-MODIFIED;VALUE=DATE-TIME:20251119T100000Z
LOCATION:Online
URL:https://edualter.org/ca/events/sostenibilidad-aplicada-al-sistema-prod
 uctivo-una-guia-para-la-nueva-asignatura-de-fp
END:VEVENT
BEGIN:VTIMEZONE
TZID:Europe/Madrid
X-LIC-LOCATION:Europe/Madrid
BEGIN:STANDARD
DTSTART;VALUE=DATE-TIME:20251026T020000
TZNAME:CET
TZOFFSETFROM:+0200
TZOFFSETTO:+0100
END:STANDARD
END:VTIMEZONE
END:VCALENDAR
