BEGIN:VCALENDAR
VERSION:2.0
PRODID:-//Plone.org//NONSGML plone.app.event//EN
X-WR-TIMEZONE:Europe/Madrid
BEGIN:VEVENT
SUMMARY:Trobada Sud d'Europa contra la Turistització 2025
DTSTART;VALUE=DATE:20250425
DTEND;VALUE=DATE:20250428
DTSTAMP;VALUE=DATE-TIME:20260424T203758Z
UID:827b84fca9644e7cbc78c1166eec2ae5@localhost:6081
CONTACT:SET\, abatbcn@gmail.com\, https://assembleabarris.wordpress.com/tr
 obadaSET2025/
CREATED;VALUE=DATE-TIME:20250319T111810Z
DESCRIPTION:PER LA TRANSFORMACIÓ SOCIOCEONÒMICA DELS TERRITORIS TURISTIT
 ZATS!\n\nDesprés d’alguns anys sense trobar-nos presencialment\, els di
 es 25\, 26 i 27 d’abril des de la xarxa SET (Sud d’Europa contra la Tu
 ristització) celebrarem a Barcelona aquestes jornades\, obertes a tothom\
 , en què tractarem diferents aspectes dels processos de turistització i 
 treballarem en noves maneres de fer-hi front mitjançant l’argumentació
  i la mobilització.
LAST-MODIFIED;VALUE=DATE-TIME:20250319T111915Z
LOCATION:Can Batlló -  Bloc 4\, Barcelona
URL:https://edualter.org/ca/events/trobada-sud-deuropa-contra-la-turistitz
 acio-2025
END:VEVENT
END:VCALENDAR
