BEGIN:VCALENDAR
VERSION:2.0
PRODID:-//Plone.org//NONSGML plone.app.event//EN
X-WR-TIMEZONE:Europe/Madrid
BEGIN:VEVENT
SUMMARY:Turismes i memòries a la ciutat de Barcelona
DTSTART;TZID=Europe/Madrid;VALUE=DATE-TIME:20241128T170000
DTEND;TZID=Europe/Madrid;VALUE=DATE-TIME:20241128T200000
DTSTAMP;VALUE=DATE-TIME:20260424T092012Z
UID:8f1459ea88784148a65613965ea83ae7@localhost:6081
CONTACT:Alba Sud\, https://www.albasud.org/noticia/ca/1756/jornada-turismo
 s-y-memorias-en-la-ciudad-de-barcelona
CREATED;VALUE=DATE-TIME:20241125T233247Z
DESCRIPTION:El dijous 28 de novembre Alba Sud organitza una jornada sobre 
 turisme i memòria al Centre Cultural La Model\, a Barcelona. Participen e
 ntitats memorials\, arxius populars i diverses entitats que s’han vist a
 pel·lades per aquest binomi. Entra en aquesta notícia per consultar el p
 rograma i inscriure't.
LAST-MODIFIED;VALUE=DATE-TIME:20241125T233413Z
LOCATION:Centre Cultural la Model
URL:https://edualter.org/ca/events/turismes-i-memories-a-la-ciutat-de-barc
 elona
END:VEVENT
BEGIN:VTIMEZONE
TZID:Europe/Madrid
X-LIC-LOCATION:Europe/Madrid
BEGIN:STANDARD
DTSTART;VALUE=DATE-TIME:20241027T020000
TZNAME:CET
TZOFFSETFROM:+0200
TZOFFSETTO:+0100
END:STANDARD
END:VTIMEZONE
END:VCALENDAR
