BEGIN:VCALENDAR
VERSION:2.0
PRODID:-//Plone.org//NONSGML plone.app.event//EN
X-WR-TIMEZONE:Europe/Madrid
BEGIN:VEVENT
SUMMARY:V Jornada: "Canviar l'educació per canviar el món"
DTSTART;TZID=Europe/Madrid;VALUE=DATE-TIME:20241025T163000
DTEND;TZID=Europe/Madrid;VALUE=DATE-TIME:20241026T180000
DTSTAMP;VALUE=DATE-TIME:20260424T191725Z
UID:20b33af9203d46a3af354d7e81c6ac7d@localhost:6081
CONTACT:Lafede.cat - Organitzacions per a la justícia global\, informacio
 @lafede.cat\, https://www.lafede.cat/ca/canviar-leducacio-per-canviar-el-m
 on/
CREATED;VALUE=DATE-TIME:20241006T155215Z
DESCRIPTION:Els dies 25 i 26 d’octubre\, Mataró acollirà la V trobada 
 Canviar l’educació per canviar el món que abordarà els reptes educati
 us per fer front als conflictes i violències\, presentarà 18 experiènci
 es educatives i ampliarà el seu programa per abordar el rol de l’associ
 acionisme educatiu en l’impuls de l’educació per a la Justícia globa
 l.
LAST-MODIFIED;VALUE=DATE-TIME:20241006T155406Z
LOCATION:TecnoCampus Mataró - Maresme
URL:https://edualter.org/ca/events/v-jornada-canviar-leducacio-per-canviar
 -el-mon
END:VEVENT
BEGIN:VTIMEZONE
TZID:Europe/Madrid
X-LIC-LOCATION:Europe/Madrid
BEGIN:DAYLIGHT
DTSTART;VALUE=DATE-TIME:20240331T030000
TZNAME:CEST
TZOFFSETFROM:+0100
TZOFFSETTO:+0200
END:DAYLIGHT
END:VTIMEZONE
END:VCALENDAR
