BEGIN:VCALENDAR
VERSION:2.0
PRODID:-//Plone.org//NONSGML plone.app.event//EN
X-WR-TIMEZONE:Europe/Madrid
BEGIN:VEVENT
SUMMARY:VEUS en acció: joves i activistes pel comerç just i la salut pla
 netària
DTSTART;TZID=Europe/Madrid;VALUE=DATE-TIME:20251219T100000
DTEND;TZID=Europe/Madrid;VALUE=DATE-TIME:20251219T123000
DTSTAMP;VALUE=DATE-TIME:20260424T075023Z
UID:30426f7adbb84db9910db49846d26deb@localhost:6081
CONTACT:Medicus Mundi Mediterrània\, 613450015\, aida.elsayed@medicusmund
 i.es\, https://docs.google.com/forms/d/e/1FAIpQLSd9ExFHpwPGmcxtzWA_k1bN8HA
 3_nI1W1-4vGIroeL-fvw8nw/viewform
CREATED;VALUE=DATE-TIME:20251119T130248Z
DESCRIPTION:Aquest esdeveniment neix del podcast VEUS (www.veus.info) i gi
 rarà entorn de la justícia climàtica\, el comerç just i responsable\, 
 i la necessitat d’impulsar una ciutadania jove informada\, crítica i co
 mpromesa amb la justícia social i ambiental. A través d’històries i e
 xperiències personals que presentin solucions i iniciatives que intenten 
 donar resposta a les problemàtiques globals socials i mediambientals. És
  un esdeveniment amb perspectiva de gènere que vol amplificar la veu de t
 res dones que lluiten contra el canvi climàtic i la vulneració de drets 
 humans relacionades amb el sistema de consum i comerç predominant globalm
 ent.
LAST-MODIFIED;VALUE=DATE-TIME:20251119T130844Z
LOCATION:Auditori del Museu de la Ciència Cosmo Caixa
URL:https://edualter.org/ca/events/veus-en-accio-joves-i-activistes-pel-co
 merc-just-i-la-salut-planetaria
END:VEVENT
BEGIN:VTIMEZONE
TZID:Europe/Madrid
X-LIC-LOCATION:Europe/Madrid
BEGIN:STANDARD
DTSTART;VALUE=DATE-TIME:20251026T020000
TZNAME:CET
TZOFFSETFROM:+0200
TZOFFSETTO:+0100
END:STANDARD
END:VTIMEZONE
END:VCALENDAR
