BEGIN:VCALENDAR
VERSION:2.0
PRODID:-//Plone.org//NONSGML plone.app.event//EN
X-WR-TIMEZONE:Europe/Madrid
BEGIN:VEVENT
SUMMARY:VI Jornadas Estatales de la RedEFES Educación económica para un 
 mundo en llamas
DTSTART;TZID=Europe/Madrid;VALUE=DATE-TIME:20260130T153000
DTEND;TZID=Europe/Madrid;VALUE=DATE-TIME:20260131T190000
DTSTAMP;VALUE=DATE-TIME:20260424T065844Z
UID:25a21f8d02594368acc0159da599dddd@localhost:6081
CONTACT:RedEFES Xarxa d’Educació en les Finances Ètiques i Solidàries
 \, https://redefes.org/ca/jornades/jornades-2026/
CREATED;VALUE=DATE-TIME:20251126T102349Z
DESCRIPTION:El mundo está en llamas. No es ningún secreto que nos enfren
 tamos a múltiples crisis que ensombrecen el horizonte. Muchas de estas am
 enazas están estrechamente relacionadas con el modelo económico actual.\
 n\nPero\, ¿estamos brindando\, desde la educación económica\, las herra
 mientas para comprender y transformar el sistema y sus lógicas? En estas 
 jornadas conectaremos con personas que se vuelcan cada día en lograrlo.
LAST-MODIFIED;VALUE=DATE-TIME:20251126T102404Z
LOCATION:La Lleialtat Santsenca  |  Bloc4BCN
URL:https://edualter.org/ca/events/vi-jornadas-estatales-de-la-redefes-edu
 cacion-economica-para-un-mundo-en-llamas
END:VEVENT
BEGIN:VTIMEZONE
TZID:Europe/Madrid
X-LIC-LOCATION:Europe/Madrid
BEGIN:STANDARD
DTSTART;VALUE=DATE-TIME:20251026T020000
TZNAME:CET
TZOFFSETFROM:+0200
TZOFFSETTO:+0100
END:STANDARD
END:VTIMEZONE
END:VCALENDAR
