BEGIN:VCALENDAR
VERSION:2.0
PRODID:-//Plone.org//NONSGML plone.app.event//EN
X-WR-TIMEZONE:Europe/Madrid
BEGIN:VEVENT
SUMMARY:VI Jornades d'Educació Ecosocial
DTSTART;VALUE=DATE:20250517
DTEND;VALUE=DATE:20250518
DTSTAMP;VALUE=DATE-TIME:20260424T093352Z
UID:308eb01e1f584895b50b9107f4da3c9a@localhost:6081
CONTACT:FUHEM\, educacionecosocial@fuhem.es idp.cursos@ub.edu\, https://ww
 w.fuhem.es/vi-jornadas-de-educacion-ecosocial/
CREATED;VALUE=DATE-TIME:20250422T080912Z
DESCRIPTION:Les jornades estan dirigides a docents i altres agents educati
 us amb l’objectiu d’explorar mirades pedagògiques que permetin camina
 r cap a la sostenibilitat i la justícia social des de les cures. Amb el t
 ítol ‘Somiant ecotopies\, cuidant el futur’\, es pretén fomentar la 
 reflexió crítica sobre el paper de l’educació en la construcció d’
 un futur sostenible i just\, indagant en el concepte d’ecotopia i donant
  un paper central a les cures com a eina pedagògica.
LAST-MODIFIED;VALUE=DATE-TIME:20250422T081025Z
LOCATION:Palau de le Heures\, Barcelona
URL:https://edualter.org/ca/events/vi-jornades-deducacio-ecosocial
END:VEVENT
END:VCALENDAR
