BEGIN:VCALENDAR
VERSION:2.0
PRODID:-//Plone.org//NONSGML plone.app.event//EN
X-WR-TIMEZONE:Europe/Madrid
BEGIN:VEVENT
SUMMARY:Webinar VEU i BOT: Transformant la participació infantil
DTSTART;TZID=Europe/Madrid;VALUE=DATE-TIME:20251112T173000
DTEND;TZID=Europe/Madrid;VALUE=DATE-TIME:20251112T190000
DTSTAMP;VALUE=DATE-TIME:20260424T093350Z
UID:f5e943b718b84e3b93dbe01234f642c7@localhost:6081
CONTACT:aFFaC\, projectes@affac.cat\, https://affac.cat/affac/veu-particip
 acio-infantil/
CREATED;VALUE=DATE-TIME:20251110T185713Z
DESCRIPTION:L’objectiu principal d’aquesta formació és facilitar ein
 es i estratègies perquè el professorat pugui garantir i fomentar el dret
  a la participació efectiva de la infància i l’adolescència als centr
 es educatius\, un dret reconegut a la Convenció sobre els Drets de l’In
 fant. Aquesta sessió vol promoure metodologies participatives inclusives\
 , significatives i adaptades a les necessitats concretes dels centres esco
 lars.
LAST-MODIFIED;VALUE=DATE-TIME:20251110T185805Z
LOCATION:Online
URL:https://edualter.org/ca/events/webinar-veu-i-bot-transformant-la-parti
 cipacio-infantil
END:VEVENT
BEGIN:VTIMEZONE
TZID:Europe/Madrid
X-LIC-LOCATION:Europe/Madrid
BEGIN:STANDARD
DTSTART;VALUE=DATE-TIME:20251026T020000
TZNAME:CET
TZOFFSETFROM:+0200
TZOFFSETTO:+0100
END:STANDARD
END:VTIMEZONE
END:VCALENDAR
