BEGIN:VCALENDAR
VERSION:2.0
PRODID:-//Plone.org//NONSGML plone.app.event//EN
X-WR-TIMEZONE:Europe/Madrid
BEGIN:VEVENT
SUMMARY:XXI Fòrum contra les violències de gènere
DTSTART;TZID=Europe/Madrid;VALUE=DATE-TIME:20251106T000000
DTEND;TZID=Europe/Madrid;VALUE=DATE-TIME:20251108T000000
DTSTAMP;VALUE=DATE-TIME:20260424T093448Z
UID:14faf8642e784371aea3b6ab678767a5@localhost:6081
CONTACT:Plataforma Unitària Contra les Violències de Gènere\, plataform
 a@violenciadegenere.org\, http://www.violenciadegenere.org/actualitat/el-x
 xi-forum-agafa-forma-i-color
CREATED;VALUE=DATE-TIME:20251021T161544Z
DESCRIPTION:En l’edició d’enguany\, que se celebrarà els dies 6\, 7 
 i 8 de novembre a l’Espai Francesca Bonnemaison de Barcelona\, ens centr
 arem en la violència a la infància\, que no es pot entendre plenament se
 nse reconèixer el seu vincle amb la violència masclista. Aquesta és la 
 idea que condensa el lema de la 21ena edició:      La infància en risc: 
 violència masclista silenciada
LAST-MODIFIED;VALUE=DATE-TIME:20251021T161609Z
LOCATION:Espai Francesca Bonnemaison\, al carrer Sant Pere Més Baix\, 7 d
 e Barcelona.
URL:https://edualter.org/ca/events/xxi-forum-contra-les-violencies-de-gene
 re
END:VEVENT
BEGIN:VTIMEZONE
TZID:Europe/Madrid
X-LIC-LOCATION:Europe/Madrid
BEGIN:STANDARD
DTSTART;VALUE=DATE-TIME:20251026T020000
TZNAME:CET
TZOFFSETFROM:+0200
TZOFFSETTO:+0100
END:STANDARD
END:VTIMEZONE
END:VCALENDAR
