BEGIN:VCALENDAR
VERSION:2.0
PRODID:-//Plone.org//NONSGML plone.app.event//EN
X-WR-TIMEZONE:Europe/Madrid
BEGIN:VEVENT
SUMMARY:¿Cómo acompañamos la sexualidad de adolescentes y jóvenes?
DTSTART;TZID=Europe/Madrid;VALUE=DATE-TIME:20250610T160000
DTEND;TZID=Europe/Madrid;VALUE=DATE-TIME:20250619T203000
DTSTAMP;VALUE=DATE-TIME:20260424T093555Z
UID:0fc1700a1a9c476dae4b65d813cab14a@localhost:6081
CONTACT:Associació Mandràgores per l’autoconeixement\, info@mandragore
 s.cat\, https://mandragores.cat/project/curs-com-acompanyem-la-sexualitat-
 dadolescents-i-joves/
CREATED;VALUE=DATE-TIME:20250527T101109Z
DESCRIPTION:Una formación para repensar la educación sexual desde una pe
 rspectiva feminista. Para profesionales inconformistas y con ganas de apre
 nder\, revisarse y compartir. No queremos un formato unidireccional! Traba
 jaremos a través de dinámicas participativas y vivenciales\, que fomente
 n el debate y la reflexión\, tanto individual como colectiva. A la vez\, 
 ofreceremos herramientas y contenidos teóricos clave para abordar la educ
 ación sexual sin caer en mitos y prejuicios. Y porque no nos quede corto\
 , todas las sesiones se complementarán con lecturas u otros recursos para
  continuar profundizando en los diferentes contenidos trabajados.
LAST-MODIFIED;VALUE=DATE-TIME:20250527T101323Z
LOCATION:Espai Jove La Fontana Gàcia\, Barcelona
URL:https://edualter.org/es/events/como-acompanamos-la-sexualidad-de-adole
 scentes-y-jovenes
END:VEVENT
BEGIN:VTIMEZONE
TZID:Europe/Madrid
X-LIC-LOCATION:Europe/Madrid
BEGIN:DAYLIGHT
DTSTART;VALUE=DATE-TIME:20250330T030000
TZNAME:CEST
TZOFFSETFROM:+0100
TZOFFSETTO:+0200
END:DAYLIGHT
END:VTIMEZONE
END:VCALENDAR
