BEGIN:VCALENDAR
VERSION:2.0
PRODID:-//Plone.org//NONSGML plone.app.event//EN
X-WR-TIMEZONE:Europe/Madrid
BEGIN:VEVENT
SUMMARY:Manifestació nocturna 7m
DTSTART;TZID=Europe/Madrid;VALUE=DATE-TIME:20250307T140000
DTEND;TZID=Europe/Madrid;VALUE=DATE-TIME:20250307T150000
DTSTAMP;VALUE=DATE-TIME:20260424T121838Z
UID:1dedde065ae54a8a87f1111c297976e9@localhost:6081
CONTACT:https://sevaarmarlagorda.wordpress.com/2025/02/24/xv-se-va-a-armar
 -la-gorda/
CREATED;VALUE=DATE-TIME:20250307T130750Z
DESCRIPTION:Se Va a Armar La Gorda: XV Jornadas de acción feminista i aut
 ónoma para mujeres\, bolleras y trans
LAST-MODIFIED;VALUE=DATE-TIME:20250307T130813Z
URL:https://edualter.org/es/events/manifestacio-nocturna-7m
END:VEVENT
BEGIN:VTIMEZONE
TZID:Europe/Madrid
X-LIC-LOCATION:Europe/Madrid
BEGIN:STANDARD
DTSTART;VALUE=DATE-TIME:20241027T020000
TZNAME:CET
TZOFFSETFROM:+0200
TZOFFSETTO:+0100
END:STANDARD
END:VTIMEZONE
END:VCALENDAR
