BEGIN:VCALENDAR
VERSION:2.0
PRODID:-//Plone.org//NONSGML plone.app.event//EN
X-WR-TIMEZONE:Europe/Madrid
BEGIN:VEVENT
SUMMARY:Inscripció: Què és la Justícia global i com treballar-la a l
 ’aula?
DTSTART;TZID=Europe/Madrid;VALUE=DATE-TIME:20250101T101000
DTEND;TZID=Europe/Madrid;VALUE=DATE-TIME:20250119T101000
DTSTAMP;VALUE=DATE-TIME:20260424T093555Z
UID:45154a0a639245f9be33befd9108c88c@localhost:6081
CONTACT:Setem Catalunya\, formacioprofessorat@setem.org\, https://www.sete
 m.org/catalunya/actualitat/noticies/formacio-gratuita-per-al-professorat-q
 ue-es-la-justicia-global-i-com-treballar-la-a-laula/
CREATED;VALUE=DATE-TIME:20250109T091521Z
DESCRIPTION:Impulsem la Justícia Global a les aules! Aquesta nova formaci
 ó gratuïta per a mestres i professorat està dissenyada per oferir eines
  pràctiques\, recursos didàctics i una mirada crítica per implementar p
 rojectes educatius transformadors a primària\, secundària\, batxillerat 
 i cicles formatius.
LAST-MODIFIED;VALUE=DATE-TIME:20250109T091553Z
LOCATION:Curs en línia (plataforma Zoom)
URL:https://edualter.org/ca/events/inscripcio-que-es-la-justicia-global-i-
 com-treballar-la-a-l2019aula
END:VEVENT
BEGIN:VTIMEZONE
TZID:Europe/Madrid
X-LIC-LOCATION:Europe/Madrid
BEGIN:STANDARD
DTSTART;VALUE=DATE-TIME:20241027T020000
TZNAME:CET
TZOFFSETFROM:+0200
TZOFFSETTO:+0100
END:STANDARD
END:VTIMEZONE
END:VCALENDAR
